BEGIN:VCALENDAR
VERSION:2.0
PRODID:-//Webseite des F&ouml;rdervereins Pro ThermalBad &Uuml;berkingen e.V. - ECPv6.15.20//NONSGML v1.0//EN
CALSCALE:GREGORIAN
METHOD:PUBLISH
X-ORIGINAL-URL:https://prothermalbad.de
X-WR-CALDESC:Veranstaltungen für Webseite des F&ouml;rdervereins Pro ThermalBad &Uuml;berkingen e.V.
REFRESH-INTERVAL;VALUE=DURATION:PT1H
X-Robots-Tag:noindex
X-PUBLISHED-TTL:PT1H
BEGIN:VTIMEZONE
TZID:Europe/Helsinki
BEGIN:DAYLIGHT
TZOFFSETFROM:+0200
TZOFFSETTO:+0300
TZNAME:EEST
DTSTART:20230326T010000
END:DAYLIGHT
BEGIN:STANDARD
TZOFFSETFROM:+0300
TZOFFSETTO:+0200
TZNAME:EET
DTSTART:20231029T010000
END:STANDARD
BEGIN:DAYLIGHT
TZOFFSETFROM:+0200
TZOFFSETTO:+0300
TZNAME:EEST
DTSTART:20240331T010000
END:DAYLIGHT
BEGIN:STANDARD
TZOFFSETFROM:+0300
TZOFFSETTO:+0200
TZNAME:EET
DTSTART:20241027T010000
END:STANDARD
BEGIN:DAYLIGHT
TZOFFSETFROM:+0200
TZOFFSETTO:+0300
TZNAME:EEST
DTSTART:20250330T010000
END:DAYLIGHT
BEGIN:STANDARD
TZOFFSETFROM:+0300
TZOFFSETTO:+0200
TZNAME:EET
DTSTART:20251026T010000
END:STANDARD
BEGIN:DAYLIGHT
TZOFFSETFROM:+0200
TZOFFSETTO:+0300
TZNAME:EEST
DTSTART:20260329T010000
END:DAYLIGHT
BEGIN:STANDARD
TZOFFSETFROM:+0300
TZOFFSETTO:+0200
TZNAME:EET
DTSTART:20261025T010000
END:STANDARD
BEGIN:DAYLIGHT
TZOFFSETFROM:+0200
TZOFFSETTO:+0300
TZNAME:EEST
DTSTART:20270328T010000
END:DAYLIGHT
BEGIN:STANDARD
TZOFFSETFROM:+0300
TZOFFSETTO:+0200
TZNAME:EET
DTSTART:20271031T010000
END:STANDARD
END:VTIMEZONE
BEGIN:VEVENT
DTSTART;TZID=Europe/Helsinki:20260326T190000
DTEND;TZID=Europe/Helsinki:20260326T220000
DTSTAMP:20260423T131508
CREATED:20260317T112622Z
LAST-MODIFIED:20260317T113153Z
UID:2156-1774551600-1774562400@prothermalbad.de
SUMMARY:Hauptversammlung 2026
DESCRIPTION:Einladung Hauptversammlung 2026 \n \n 
URL:https://prothermalbad.de/event/hauptversammlung-2026/
LOCATION:Restaurant im Autal\, Bad Überkingen\, Hausener Str. 27\, Bad Überkingen\, 73337
END:VEVENT
BEGIN:VEVENT
DTSTART;TZID=Europe/Helsinki:20240911T080000
DTEND;TZID=Europe/Helsinki:20250110T233000
DTSTAMP:20260423T131508
CREATED:20240911T195757Z
LAST-MODIFIED:20240911T195757Z
UID:1614-1726041600-1736551800@prothermalbad.de
SUMMARY:Aktuelle Veranstaltungen in der Salzgrotte für das 2. Halbjahr 2024
DESCRIPTION:Liebe Thermalbad Freunde\, \nfreut euch auch im zweiten Halbjahr auf tolle Veranstaltungen in der Salzgrotte: \n  \nYoga Nidra \n02.10.2024 ab 19:00 Uhr \n08.11.2024 ab 19:00 Uhr \n04.12.2024 ab 19:00 Uhr \n10.01.2025 ab 19:00 Uhr \n  \nLach-Yoga \n19.09.2024 ab 16:00 Uhr \n  \nKlangschalenerlebnis:  \n18.09.2024 ab 16:00 Uhr \n18.09.2024 ab 18:00 Uhr \n16.10.2024 ab 16:00 Uhr \n16.10.2024 ab 18:00 Uhr \n20.11.2024 ab 16:00 Uhr \n20.11.2024 ab 18:00 Uhr \n18.12.2024 ab 16:00 Uhr \n18.12.2024 ab 18:00 Uhr \n  \nReservierung erforderlich! Alle Infos und Reservierung unter: Tel. 07331 61087 \nVeranstalter: \nThermalbad Überkingen \nOrt: \nOriginal Totes-Meer-Salzgrotte im Thermalbad Überkingen \nAm Kurpark 1 \n73337 Bad Überkingen
URL:https://prothermalbad.de/event/aktuelle-veranstaltungen-in-der-salzgrotte-fuer-das-2-halbjahr-2024/
LOCATION:Thermalbad Überkingen\, Am Kurpark 1\, Bad Überkingen\, Baden-Württemberg\, 73337\, Deutschland
END:VEVENT
BEGIN:VEVENT
DTSTART;TZID=Europe/Helsinki:20240911T080000
DTEND;TZID=Europe/Helsinki:20250102T233000
DTSTAMP:20260423T131508
CREATED:20240911T195619Z
LAST-MODIFIED:20240911T195619Z
UID:1612-1726041600-1735860600@prothermalbad.de
SUMMARY:Aktuelle Veranstaltungen im Thermalbad für das 2. Halbjahr 2024
DESCRIPTION:Liebe Thermalbad Freunde\, \nfreut euch auch im zweiten Halbjahr auf tolle Veranstaltungen im Thermalbad: \n  \nSternebaden \n03.10.2024 ab 18:00 Uhr \n07.11.2024 ab 18:00 Uhr \n05.12.2024 ab 18:00 Uhr \n02.01.2025 ab 18:00 Uhr \n  \nLanger Saunaabend \n19.09.2024 \n17.10.2024 \n21.11.2024 \n19.12.2024 \n  \nVeranstalter:  \nThermalbad Überkingen \n  \nOrt:  \nThermalbad Überkingen \nAm Kurpark 1 \n73337 Bad Überkingen \n \n  \n 
URL:https://prothermalbad.de/event/aktuelle-veranstaltungen-im-thermalbad-fuer-das-2-halbjahr-2024/
LOCATION:Thermalbad Überkingen\, Am Kurpark 1\, Bad Überkingen\, Baden-Württemberg\, 73337\, Deutschland
END:VEVENT
BEGIN:VEVENT
DTSTART;TZID=Europe/Helsinki:20240821T090000
DTEND;TZID=Europe/Helsinki:20240821T210000
DTSTAMP:20260423T131508
CREATED:20240618T193101Z
LAST-MODIFIED:20240618T193101Z
UID:1519-1724230800-1724274000@prothermalbad.de
SUMMARY:Wiedereröffnung Thermalbad Überkingen
DESCRIPTION:
URL:https://prothermalbad.de/event/wiedereroeffnung-thermalbad-ueberkingen/
LOCATION:Thermalbad Überkingen\, Am Kurpark 1\, Bad Überkingen\, Baden-Württemberg\, 73337\, Deutschland
END:VEVENT
BEGIN:VEVENT
DTSTART;TZID=Europe/Helsinki:20240529T180000
DTEND;TZID=Europe/Helsinki:20240529T184500
DTSTAMP:20260423T131508
CREATED:20240224T144914Z
LAST-MODIFIED:20240224T144914Z
UID:1142-1717005600-1717008300@prothermalbad.de
SUMMARY:Pilates in der Salzgrotte
DESCRIPTION:Pilates in der Salzgrotte\, Start 18 Uhr – Dauer: 45 Min.\nKursleiterin: Patricia Hagmann \n„PILATES ist eine sanfte\, aber überaus wirkungsvolle Trainingsmethode\nfür Körper und Geist – einzelne Muskeln oder Muskelpartien\nwerden ganz gezielt aktiviert\, entspannt oder gedehnt.\nDie Atmung wird mit den Bewegungen koordiniert.“ www.pilates.de \nEintritt: 10\,- € zzgl. Kursgebühr 12\,- € \nAnmeldung unter: 07331 61087
URL:https://prothermalbad.de/event/pilates-in-der-salzgrotte-2/
LOCATION:Thermalbad Überkingen\, Am Kurpark 1\, Bad Überkingen\, Baden-Württemberg\, 73337\, Deutschland
END:VEVENT
BEGIN:VEVENT
DTSTART;TZID=Europe/Helsinki:20240525T100000
DTEND;TZID=Europe/Helsinki:20240525T170000
DTSTAMP:20260423T131508
CREATED:20240224T144759Z
LAST-MODIFIED:20240224T144810Z
UID:1139-1716631200-1716656400@prothermalbad.de
SUMMARY:Erlebnistag "Wasser und Salz"
DESCRIPTION:Tag der offenen Tür im Thermalbad\, der Sauna und in der Salzgrotte Bad Überkingen \nKein Bade- und Saunabetrieb!!
URL:https://prothermalbad.de/event/erlebnistag-wasser-und-salz/
LOCATION:Thermalbad Überkingen\, Am Kurpark 1\, Bad Überkingen\, Baden-Württemberg\, 73337\, Deutschland
END:VEVENT
BEGIN:VEVENT
DTSTART;TZID=Europe/Helsinki:20240523T173000
DTEND;TZID=Europe/Helsinki:20240523T190000
DTSTAMP:20260423T131508
CREATED:20240224T144609Z
LAST-MODIFIED:20240224T144609Z
UID:1137-1716485400-1716490800@prothermalbad.de
SUMMARY:Einführungskurs Richtig Saunieren
DESCRIPTION:Einführungskurs: Richtig Saunieren in der Sauna im Thermalbad \nStart 17:30 Uhr – Dauer 1\,5 h \nLernen Sie unter professioneller Anleitung die wohltuende Welt der\nSaunakultur mit deren gesundheitlichen Vorteile mit dem drei\nPhasenablauf – Aufwärmphase – Abkühlphase – Ruhephase kennen. \nEintritt zzgl. Kursgebühr: 10\,- € pro Person
URL:https://prothermalbad.de/event/einfuehrungskurs-richtig-saunieren-4/
LOCATION:Thermalbad Überkingen\, Am Kurpark 1\, Bad Überkingen\, Baden-Württemberg\, 73337\, Deutschland
END:VEVENT
BEGIN:VEVENT
DTSTART;TZID=Europe/Helsinki:20240516T180000
DTEND;TZID=Europe/Helsinki:20240516T230000
DTSTAMP:20260423T131508
CREATED:20240224T144503Z
LAST-MODIFIED:20240224T144503Z
UID:1135-1715882400-1715900400@prothermalbad.de
SUMMARY:Lange Sauna Nacht
DESCRIPTION:Lange Sauna Nacht in der Sauna im Thermalbad \nmit tollen Aufgüssen 🙂
URL:https://prothermalbad.de/event/lange-sauna-nacht-4/
LOCATION:Thermalbad Überkingen\, Am Kurpark 1\, Bad Überkingen\, Baden-Württemberg\, 73337\, Deutschland
END:VEVENT
BEGIN:VEVENT
DTSTART;TZID=Europe/Helsinki:20240512T090000
DTEND;TZID=Europe/Helsinki:20240512T190000
DTSTAMP:20260423T131508
CREATED:20240224T144409Z
LAST-MODIFIED:20240224T144409Z
UID:1133-1715504400-1715540400@prothermalbad.de
SUMMARY:Muttertag Special im Thermalbad
DESCRIPTION:Rabatt Tag
URL:https://prothermalbad.de/event/muttertag-special-im-thermalbad/
LOCATION:Thermalbad Überkingen\, Am Kurpark 1\, Bad Überkingen\, Baden-Württemberg\, 73337\, Deutschland
END:VEVENT
BEGIN:VEVENT
DTSTART;TZID=Europe/Helsinki:20240509T100000
DTEND;TZID=Europe/Helsinki:20240509T190000
DTSTAMP:20260423T131508
CREATED:20240224T144312Z
LAST-MODIFIED:20240224T144312Z
UID:1131-1715248800-1715281200@prothermalbad.de
SUMMARY:Vatertag-Special im Thermalbad
DESCRIPTION:Rabatt-Tag
URL:https://prothermalbad.de/event/vatertag-special-im-thermalbad/
LOCATION:Thermalbad Überkingen\, Am Kurpark 1\, Bad Überkingen\, Baden-Württemberg\, 73337\, Deutschland
END:VEVENT
BEGIN:VEVENT
DTSTART;TZID=Europe/Helsinki:20240508T160000
DTEND;TZID=Europe/Helsinki:20240508T180000
DTSTAMP:20260423T131508
CREATED:20240224T144054Z
LAST-MODIFIED:20240224T144054Z
UID:1129-1715184000-1715191200@prothermalbad.de
SUMMARY:Klangschalenerlebnis in der Salzgrotte
DESCRIPTION:2 Termine – Start 16 Uhr bzw. 18 Uhr – Dauer je 1\,5 h\nin Zusammenarbeit mit der Naturheilpraxis Bay aus Esslingen.\nEnergien freisetzen – Selbstheilungskräfte aktivieren –\njede Körperzelle geht in Resonanz zu den Klangschwingungen … \nEintritt: 10\,- € zzgl. Kursgebühr: 30\,- € pro Person \nAnmeldung unter: 07331 61087
URL:https://prothermalbad.de/event/klangschalenerlebnis-in-der-salzgrotte-3/
LOCATION:Thermalbad Überkingen\, Am Kurpark 1\, Bad Überkingen\, Baden-Württemberg\, 73337\, Deutschland
END:VEVENT
BEGIN:VEVENT
DTSTART;TZID=Europe/Helsinki:20240503T190000
DTEND;TZID=Europe/Helsinki:20240503T194500
DTSTAMP:20260423T131508
CREATED:20240224T143615Z
LAST-MODIFIED:20240224T143615Z
UID:1125-1714762800-1714765500@prothermalbad.de
SUMMARY:Yoga Nidra in der Salzgrotte
DESCRIPTION:Yoga Nidra in der Salzgrotte\, Start 19 Uhr – Dauer: 45 Min\nKursleiterin: Sabine Volk. \nAus der Eile und dem Stress des Alltags Körper und Geist in einen\nruhigen und entspannten Zustand bringen mit der altbewährten\nMethode Yoga Nidra\, auch der yogische Schlaf genannt. \n „Yoga Nidra ist weit mehr als eine Entspannungsübung. Der Schlaf der\nYogis erfrischt den Körper und versetzt das Gehirn in einen Zustand\nvollbewußter Ruhe.“ Swami Prakashananda Saraswati. \nEinfach entspannt hinlegen\, meinen Worten folgen und die gute\nLuft der Salzgrotte tief einatmen. \nEintritt: 10\,- € zzgl. Kursgebühr 10\,- € \nAnmeldung unter: 07331 61087
URL:https://prothermalbad.de/event/yoga-nidra-in-der-salzgrotte-4/
LOCATION:Thermalbad Überkingen\, Am Kurpark 1\, Bad Überkingen\, Baden-Württemberg\, 73337\, Deutschland
END:VEVENT
BEGIN:VEVENT
DTSTART;TZID=Europe/Helsinki:20240502T180000
DTEND;TZID=Europe/Helsinki:20240502T230000
DTSTAMP:20260423T131508
CREATED:20240224T143523Z
LAST-MODIFIED:20240305T092632Z
UID:1123-1714672800-1714690800@prothermalbad.de
SUMMARY:Sternebaden -die Party Night im Thermalbad-
DESCRIPTION:✸ Sternenbaden ✸\njeden 1. Donnerstag im Monat\, 18 bis 23 Uhr\nDas ThermalBad wird zur Event-Location: Eine Party unter\nfreiem Himmel mit Blick in die Nacht voller Sterne – Spaß und\nEntspannung pur.\nDas Afterwork-Highlight: Cocktails gibt es direkt an der Pool-\nBar und chillige Musik macht den Feierabend leicht.\nIn der Sauna warten Motto-Aufgüsse mit anschließenden\nÜberraschungen.\nEintritt: 12\,- € zzgl. Musikzuschlag: 4\,- € pro Person
URL:https://prothermalbad.de/event/sternebaden-die-party-night-im-thermalbad-3/
LOCATION:Thermalbad Überkingen\, Am Kurpark 1\, Bad Überkingen\, Baden-Württemberg\, 73337\, Deutschland
END:VEVENT
BEGIN:VEVENT
DTSTART;TZID=Europe/Helsinki:20240425T173000
DTEND;TZID=Europe/Helsinki:20240425T190000
DTSTAMP:20260423T131508
CREATED:20240224T143017Z
LAST-MODIFIED:20240224T143017Z
UID:1121-1714066200-1714071600@prothermalbad.de
SUMMARY:Einführungskurs Richtig Saunieren
DESCRIPTION:Einführungskurs: Richtig Saunieren in der Sauna im Thermalbad \nStart 17:30 Uhr – Dauer 1\,5 h \nLernen Sie unter professioneller Anleitung die wohltuende Welt der\nSaunakultur mit deren gesundheitlichen Vorteile mit dem drei\nPhasenablauf – Aufwärmphase – Abkühlphase – Ruhephase kennen. \nEintritt zzgl. Kursgebühr: 10\,- € pro Person
URL:https://prothermalbad.de/event/einfuehrungskurs-richtig-saunieren-3/
LOCATION:Thermalbad Überkingen\, Am Kurpark 1\, Bad Überkingen\, Baden-Württemberg\, 73337\, Deutschland
END:VEVENT
BEGIN:VEVENT
DTSTART;TZID=Europe/Helsinki:20240418T180000
DTEND;TZID=Europe/Helsinki:20240418T230000
DTSTAMP:20260423T131508
CREATED:20240224T142849Z
LAST-MODIFIED:20240224T142849Z
UID:1119-1713463200-1713481200@prothermalbad.de
SUMMARY:Lange Sauna Nacht
DESCRIPTION:Lange Sauna Nacht in der Sauna im Thermalbad Überkingen \nMit tollen Aufgüssen 🙂
URL:https://prothermalbad.de/event/lange-sauna-nacht-2/
LOCATION:Thermalbad Überkingen\, Am Kurpark 1\, Bad Überkingen\, Baden-Württemberg\, 73337\, Deutschland
END:VEVENT
BEGIN:VEVENT
DTSTART;TZID=Europe/Helsinki:20240417T160000
DTEND;TZID=Europe/Helsinki:20240417T180000
DTSTAMP:20260423T131508
CREATED:20240224T142706Z
LAST-MODIFIED:20240224T142706Z
UID:1117-1713369600-1713376800@prothermalbad.de
SUMMARY:Klangschalenerlebnis in der Salzgrotte
DESCRIPTION:2 Termine – Start 16 Uhr bzw. 18 Uhr – Dauer je 1\,5 h\nin Zusammenarbeit mit der Naturheilpraxis Bay aus Esslingen.\nEnergien freisetzen – Selbstheilungskräfte aktivieren –\njede Körperzelle geht in Resonanz zu den Klangschwingungen … \nEintritt: 10\,- € zzgl. Kursgebühr: 30\,- € pro Person \nAnmeldung unter: 07331 61087
URL:https://prothermalbad.de/event/klangschalenerlebnis-in-der-salzgrotte-2/
LOCATION:Thermalbad Überkingen\, Am Kurpark 1\, Bad Überkingen\, Baden-Württemberg\, 73337\, Deutschland
END:VEVENT
BEGIN:VEVENT
DTSTART;TZID=Europe/Helsinki:20240411T180000
DTEND;TZID=Europe/Helsinki:20240411T230000
DTSTAMP:20260423T131508
CREATED:20240224T142543Z
LAST-MODIFIED:20240224T142543Z
UID:1114-1712858400-1712876400@prothermalbad.de
SUMMARY:Cocktail-Sterne-Studi Night
DESCRIPTION:Die Poolparty für Studentinnen und Studenten im ThermalBad von 18 bis 23 Uhr\nÜberkingen mit guter Musik\, lockerer Atmosphäre und\nerfrischenden Cocktails.\nEintritt: 12\,- € zzgl. Musikzuschlag: 4\,- € pro Person
URL:https://prothermalbad.de/event/cocktail-sterne-studi-night/
LOCATION:Thermalbad Überkingen\, Am Kurpark 1\, Bad Überkingen\, Baden-Württemberg\, 73337\, Deutschland
END:VEVENT
BEGIN:VEVENT
DTSTART;TZID=Europe/Helsinki:20240404T180000
DTEND;TZID=Europe/Helsinki:20240404T230000
DTSTAMP:20260423T131508
CREATED:20240224T142324Z
LAST-MODIFIED:20240224T142324Z
UID:1112-1712253600-1712271600@prothermalbad.de
SUMMARY:Sternebaden -die Party Night im Thermalbad-
DESCRIPTION:✸ Sternenbaden ✸\njeden 1. Donnerstag im Monat\, 18 bis 23 Uhr\nDas ThermalBad wird zur Event-Location: Eine Party unter\nfreiem Himmel mit Blick in die Nacht voller Sterne – Spaß und\nEntspannung pur.\nDas Afterwork-Highlight: Cocktails gibt es direkt an der Pool-\nBar und chillige Musik macht den Feierabend leicht.\nIn der Sauna warten Motto-Aufgüsse mit anschließenden\nÜberraschungen.\nEintritt: 12\,- € zzgl. Musikzuschlag: 4\,- € pro Person
URL:https://prothermalbad.de/event/sternebaden-die-party-night-im-thermalbad-2/
LOCATION:Thermalbad Überkingen\, Am Kurpark 1\, Bad Überkingen\, Baden-Württemberg\, 73337\, Deutschland
END:VEVENT
BEGIN:VEVENT
DTSTART;TZID=Europe/Helsinki:20240403T190000
DTEND;TZID=Europe/Helsinki:20240403T194500
DTSTAMP:20260423T131508
CREATED:20240224T141957Z
LAST-MODIFIED:20240224T142149Z
UID:1109-1712170800-1712173500@prothermalbad.de
SUMMARY:Yoga Nidra in der Salzgrotte
DESCRIPTION:Yoga Nidra in der Salzgrotte\, Start 19 Uhr – Dauer: 45 Min\nKursleiterin: Sabine Volk. \nAus der Eile und dem Stress des Alltags Körper und Geist in einen\nruhigen und entspannten Zustand bringen mit der altbewährten\nMethode Yoga Nidra\, auch der yogische Schlaf genannt. \n „Yoga Nidra ist weit mehr als eine Entspannungsübung. Der Schlaf der\nYogis erfrischt den Körper und versetzt das Gehirn in einen Zustand\nvollbewußter Ruhe.“  Swami Prakashananda Saraswati. \nEinfach entspannt hinlegen\, meinen Worten folgen und die gute\nLuft der Salzgrotte tief einatmen. \nEintritt: 10\,- € zzgl. Kursgebühr 10\,- € \nAnmeldung unter: 07331 61087
URL:https://prothermalbad.de/event/yoga-nidra-in-der-salzgrotte-3/
LOCATION:Thermalbad Überkingen\, Am Kurpark 1\, Bad Überkingen\, Baden-Württemberg\, 73337\, Deutschland
END:VEVENT
BEGIN:VEVENT
DTSTART;TZID=Europe/Helsinki:20240403T180000
DTEND;TZID=Europe/Helsinki:20240403T184500
DTSTAMP:20260423T131508
CREATED:20240224T141739Z
LAST-MODIFIED:20240224T142112Z
UID:1106-1712167200-1712169900@prothermalbad.de
SUMMARY:Pilates in der Salzgrotte
DESCRIPTION:Pilates in der Salzgrotte\, Start 18 Uhr – Dauer: 45 Min.\nKursleiterin: Patricia Hagmann \n„PILATES ist eine sanfte\, aber überaus wirkungsvolle Trainingsmethode\nfür Körper und Geist – einzelne Muskeln oder Muskelpartien\nwerden ganz gezielt aktiviert\, entspannt oder gedehnt.\nDie Atmung wird mit den Bewegungen koordiniert.“ www.pilates.de \nEintritt: 10\,- € zzgl. Kursgebühr 12\,- € \nAnmeldung unter: 07331 61087
URL:https://prothermalbad.de/event/pilates-in-der-salzgrotte/
LOCATION:Thermalbad Überkingen\, Am Kurpark 1\, Bad Überkingen\, Baden-Württemberg\, 73337\, Deutschland
END:VEVENT
BEGIN:VEVENT
DTSTART;TZID=Europe/Helsinki:20240331T140000
DTEND;TZID=Europe/Helsinki:20240331T180000
DTSTAMP:20260423T131508
CREATED:20240210T164827Z
LAST-MODIFIED:20240210T164952Z
UID:1037-1711893600-1711908000@prothermalbad.de
SUMMARY:Oster-Special im Thermalbad Überkingen
DESCRIPTION:Der Osterhase kommt auch zu uns ins Thermalbad
URL:https://prothermalbad.de/event/oster-special-im-thermalbad-ueberkingen/
LOCATION:Thermalbad Überkingen\, Am Kurpark 1\, Bad Überkingen\, Baden-Württemberg\, 73337\, Deutschland
END:VEVENT
BEGIN:VEVENT
DTSTART;TZID=Europe/Helsinki:20240321T173000
DTEND;TZID=Europe/Helsinki:20240321T190000
DTSTAMP:20260423T131508
CREATED:20240210T164718Z
LAST-MODIFIED:20240210T171138Z
UID:1035-1711042200-1711047600@prothermalbad.de
SUMMARY:Einführungskurs Richtig Saunieren
DESCRIPTION:Einführungskurs: Richtig Saunieren in der Sauna im Thermalbad \nStart 17:30 Uhr – Dauer 1\,5 h \nLernen Sie unter professioneller Anleitung die wohltuende Welt der\nSaunakultur mit deren gesundheitlichen Vorteile mit dem drei\nPhasenablauf – Aufwärmphase – Abkühlphase – Ruhephase kennen. \nEintritt zzgl. Kursgebühr: 10\,- € pro Person
URL:https://prothermalbad.de/event/einfuehrungskurs-richtig-saunieren-2/
LOCATION:Thermalbad Überkingen\, Am Kurpark 1\, Bad Überkingen\, Baden-Württemberg\, 73337\, Deutschland
END:VEVENT
BEGIN:VEVENT
DTSTART;TZID=Europe/Helsinki:20240320T160000
DTEND;TZID=Europe/Helsinki:20240320T180000
DTSTAMP:20260423T131509
CREATED:20240210T164509Z
LAST-MODIFIED:20240210T164509Z
UID:1031-1710950400-1710957600@prothermalbad.de
SUMMARY:Klangschalenerlebnis in der Salzgrotte
DESCRIPTION:2 Termine – Start 16 Uhr bzw. 18 Uhr – Dauer je 1\,5 h\nin Zusammenarbeit mit der Naturheilpraxis Bay aus Esslingen.\nEnergien freisetzen – Selbstheilungskräfte aktivieren –\njede Körperzelle geht in Resonanz zu den Klangschwingungen … \nEintritt: 10\,- € zzgl. Kursgebühr: 30\,- € pro Person \nAnmeldung unter: 07331 61087
URL:https://prothermalbad.de/event/klangschalenerlebnis-in-der-salzgrotte/
LOCATION:Thermalbad Überkingen\, Am Kurpark 1\, Bad Überkingen\, Baden-Württemberg\, 73337\, Deutschland
END:VEVENT
BEGIN:VEVENT
DTSTART;TZID=Europe/Helsinki:20240314T180000
DTEND;TZID=Europe/Helsinki:20240314T230000
DTSTAMP:20260423T131509
CREATED:20240210T164248Z
LAST-MODIFIED:20240210T170429Z
UID:1029-1710439200-1710457200@prothermalbad.de
SUMMARY:Lange Sauna Nacht
DESCRIPTION:Lange Sauna Nacht in der Sauna im Thermalbad \nmit tollen Aufgüssen 🙂
URL:https://prothermalbad.de/event/lange-sauna-nacht/
LOCATION:Thermalbad Überkingen\, Am Kurpark 1\, Bad Überkingen\, Baden-Württemberg\, 73337\, Deutschland
END:VEVENT
BEGIN:VEVENT
DTSTART;TZID=Europe/Helsinki:20240313T190000
DTEND;TZID=Europe/Helsinki:20240313T194500
DTSTAMP:20260423T131509
CREATED:20240210T163540Z
LAST-MODIFIED:20240210T171051Z
UID:1027-1710356400-1710359100@prothermalbad.de
SUMMARY:Yoga Nidra in der Salzgrotte
DESCRIPTION:Yoga Nidra in der Salzgrotte\, Start 19 Uhr – Dauer: 45 Min\nKursleiterin: Sabine Volk. \nAus der Eile und dem Stress des Alltags Körper und Geist in einen\nruhigen und entspannten Zustand bringen mit der altbewährten\nMethode Yoga Nidra\, auch der yogische Schlaf genannt. \n „Yoga Nidra ist weit mehr als eine Entspannungsübung. Der Schlaf der\nYogis erfrischt den Körper und versetzt das Gehirn in einen Zustand\nvollbewußter Ruhe.“ Swami Prakashananda Saraswati. \nEinfach entspannt hinlegen\, meinen Worten folgen und die gute\nLuft der Salzgrotte tief einatmen. \nEintritt: 10\,- € zzgl. Kursgebühr 10\,- € \nAnmeldung unter: 07331 61087
URL:https://prothermalbad.de/event/yoga-nidra-in-der-salzgrotte-2/
LOCATION:Thermalbad Überkingen\, Am Kurpark 1\, Bad Überkingen\, Baden-Württemberg\, 73337\, Deutschland
END:VEVENT
BEGIN:VEVENT
DTSTART;TZID=Europe/Helsinki:20240307T180000
DTEND;TZID=Europe/Helsinki:20240307T230000
DTSTAMP:20260423T131509
CREATED:20240210T163357Z
LAST-MODIFIED:20240305T092710Z
UID:1025-1709834400-1709852400@prothermalbad.de
SUMMARY:Sternebaden -die Party Night im Thermalbad-
DESCRIPTION:✸ Sternenbaden ✸\njeden 1. Donnerstag im Monat\, 18 bis 23 Uhr.\nDas ThermalBad wird zur Event-Location: Eine Party unter\nfreiem Himmel mit Blick in die Nacht voller Sterne – Spaß und\nEntspannung pur.\nDas Afterwork-Highlight: Cocktails gibt es direkt an der Pool-\nBar und chillige Musik macht den Feierabend leicht.\nIn der Sauna warten Motto-Aufgüsse mit anschließenden\nÜberraschungen.\nEintritt: 12\,- € zzgl. Musikzuschlag: 4\,- € pro Person
URL:https://prothermalbad.de/event/sternebaden-die-party-night-im-thermalbad/
LOCATION:Thermalbad Überkingen\, Am Kurpark 1\, Bad Überkingen\, Baden-Württemberg\, 73337\, Deutschland
END:VEVENT
BEGIN:VEVENT
DTSTART;TZID=Europe/Helsinki:20240228T190000
DTEND;TZID=Europe/Helsinki:20240228T194500
DTSTAMP:20260423T131509
CREATED:20240210T162940Z
LAST-MODIFIED:20240213T162552Z
UID:1020-1709146800-1709149500@prothermalbad.de
SUMMARY:Yoga Nidra in der Salzgrotte
DESCRIPTION:Yoga Nidra in der Salzgrotte\, Start 19 Uhr – Dauer: 45 Min\nKursleiterin: Sabine Volk. \nAus der Eile und dem Stress des Alltags Körper und Geist in einen\nruhigen und entspannten Zustand bringen mit der altbewährten\nMethode Yoga Nidra\, auch der yogische Schlaf genannt. \n „Yoga Nidra ist weit mehr als eine Entspannungsübung. Der Schlaf der\nYogis erfrischt den Körper und versetzt das Gehirn in einen Zustand\nvollbewußter Ruhe.“ Swami Prakashananda Saraswati. \nEinfach entspannt hinlegen\, meinen Worten folgen und die gute\nLuft der Salzgrotte tief einatmen. \nEintritt: 10\,- € zzgl. Kursgebühr 10\,- € \nAnmeldung unter: 07331 61087
URL:https://prothermalbad.de/event/yoga-nidra-in-der-salzgrotte/
LOCATION:Thermalbad Überkingen\, Am Kurpark 1\, Bad Überkingen\, Baden-Württemberg\, 73337\, Deutschland
END:VEVENT
BEGIN:VEVENT
DTSTART;TZID=Europe/Helsinki:20240221T160000
DTEND;TZID=Europe/Helsinki:20240221T180000
DTSTAMP:20260423T131509
CREATED:20240121T111529Z
LAST-MODIFIED:20240210T164519Z
UID:852-1708531200-1708538400@prothermalbad.de
SUMMARY:Klangschalenerlebnis in der Salzgrotte
DESCRIPTION:2 Termine – Start 16 Uhr bzw. 18 Uhr – Dauer je 1\,5 h\nin Zusammenarbeit mit der Naturheilpraxis Bay aus Esslingen.\nEnergien freisetzen – Selbstheilungskräfte aktivieren –\njede Körperzelle geht in Resonanz zu den Klangschwingungen … \nEintritt: 10\,- € zzgl. Kursgebühr: 30\,- € pro Person \nAnmeldung unter: 07331 61087 \n \n 
URL:https://prothermalbad.de/event/klangerlebnis-in-der-salzgrotte/
LOCATION:Thermalbad Überkingen\, Am Kurpark 1\, Bad Überkingen\, Baden-Württemberg\, 73337\, Deutschland
END:VEVENT
BEGIN:VEVENT
DTSTART;TZID=Europe/Helsinki:20240215T173000
DTEND;TZID=Europe/Helsinki:20240215T190000
DTSTAMP:20260423T131509
CREATED:20240210T162544Z
LAST-MODIFIED:20240210T170642Z
UID:1014-1708018200-1708023600@prothermalbad.de
SUMMARY:Einführungskurs Richtig Saunieren
DESCRIPTION:Einführungskurs: Richtig Saunieren in der Sauna im Thermalbad \nStart 17:30 Uhr – Dauer 1\,5 h \nLernen Sie unter professioneller Anleitung die wohltuende Welt der\nSaunakultur mit deren gesundheitlichen Vorteile mit dem drei\nPhasenablauf – Aufwärmphase – Abkühlphase – Ruhephase kennen. \nEintritt zzgl. Kursgebühr: 10\,- € pro Person
URL:https://prothermalbad.de/event/einfuehrungskurs-richtig-saunieren/
LOCATION:Thermalbad Überkingen\, Am Kurpark 1\, Bad Überkingen\, Baden-Württemberg\, 73337\, Deutschland
END:VEVENT
BEGIN:VEVENT
DTSTART;TZID=Europe/Helsinki:20240214T140000
DTEND;TZID=Europe/Helsinki:20240214T210000
DTSTAMP:20260423T131509
CREATED:20240210T162135Z
LAST-MODIFIED:20240210T164108Z
UID:1011-1707919200-1707944400@prothermalbad.de
SUMMARY:Valentinstag Special im ThermalBad
DESCRIPTION:…mit vielen Überraschungen für Verliebte \n— keine Damensauna!–
URL:https://prothermalbad.de/event/valentinstag-special-im-thermalbad/
LOCATION:Thermalbad Überkingen\, Am Kurpark 1\, Bad Überkingen\, Baden-Württemberg\, 73337\, Deutschland
END:VEVENT
END:VCALENDAR